BEGIN:VCALENDAR
PRODID:-//AT Content Types//AT Event//EN
VERSION:2.0
METHOD:PUBLISH
BEGIN:VEVENT
DTSTAMP:20260420T084946Z
CREATED:20200907T132803Z
UID:ATEvent-a73a8ba7d0034f86a83a77b61a160058
LAST-MODIFIED:20200921T134724Z
SUMMARY:Concierto del grupo Gandeia en el lagar de Igartubeiti
DTSTART:20201003T160000Z
DTEND:20201003T173000Z
LOCATION:Caserío Museo Igartubeiti
CONTACT:Caserío Museo Igartubeiti\, 943725107\, igartubeiti@gipuzkoa.eus
URL:https://www.igartubeitibaserria.eus/es/noticias/concierto-del-grupo-gandeia-en-el-lagar-del-caserio-igartubeiti
CLASS:PUBLIC
END:VEVENT
END:VCALENDAR
