BEGIN:VCALENDAR
PRODID:-//AT Content Types//AT Event//EN
VERSION:2.0
METHOD:PUBLISH
BEGIN:VEVENT
DTSTAMP:20260422T102634Z
CREATED:20221011T132343Z
UID:ATEvent-946515503a7b48c99f511bef0726cf9b
LAST-MODIFIED:20221011T132352Z
SUMMARY:Taller familiar “Haz tu propio estuche con residuos textiles”
DTSTART:20221119T153000Z
DTEND:20221119T173000Z
DESCRIPTION:El caserío Museo Igartubeiti\, se suma a las Jornadas eur
 opeas del Patrimonio\, organizadas bajo la temática “Ondarea loratu
 z\, gozatu! Patrimonio sostenible” centrándose en la creación text
 il como práctica de transformación social en clave de sostenibilidad
 \, una temática central para el museo
LOCATION:Caserío Museo Igartubeiti
CONTACT:Caserío Museo Igartubeiti\, 618 00 41 31 / 943 72 29 78 / 943 72 51 07\, igartubeiti@gipuzkoa.eus
URL:https://www.igartubeitibaserria.eus/es/noticias/se-puede-hacer-moda-con-los-tejidos-de-los-autobuses-la-moda-sostenible-llega-a-igartubeiti-a-partir-del-20-de-octubre
CLASS:PUBLIC
END:VEVENT
END:VCALENDAR
