BEGIN:VCALENDAR
PRODID:-//AT Content Types//AT Event//EN
VERSION:2.0
METHOD:PUBLISH
BEGIN:VEVENT
DTSTAMP:20260421T095042Z
CREATED:20260414T124057Z
UID:ATEvent-22098994f9ec4233a538793b4a4850c1
LAST-MODIFIED:20260414T124147Z
SUMMARY:Taller intergeneracional "De la planta al aceite esencial: transformación y usos"
DTSTART:20260425T143000Z
DTEND:20260425T160000Z
LOCATION:Caserío Museo Igartubeiti
CONTACT:Caserío Museo Igartubeiti\, 618 00 41 31 / 943 72 29 78 / 943 72 51 07\, igartubeiti@gipuzkoa.eus
CLASS:PUBLIC
END:VEVENT
END:VCALENDAR
