BEGIN:VCALENDAR
PRODID:-//AT Content Types//AT Event//EN
VERSION:1.0
BEGIN:VEVENT
DTSTART:20160605T083000Z
DTEND:20160605T150000Z
DCREATED:20160527T145433Z
UID:ATEvent-439592d8c5f349c68ecbdd0619be5825
SEQUENCE:0
LAST-MODIFIED:20160530T080449Z
SUMMARY:Baserri Eguna jasangarritasunari eskainia
DESCRIPTION:Ekainaren 5ean jai-giroan ospatuko dugun jarduera honetan\
 , energia eta elikagai buruaskitasuna\, ekoizpen eta kontsumo arloetan
  bertakoa balioan ipintzea\, bertako produktuekiko eta ekoizleekiko e
 rrespetua gaiak jorratuko ditugu\, antolatutako zenbait jardueren bita
 rtez. 
LOCATION:Igartubeiti Baserri Museoa
PRIORITY:3
TRANSP:0
END:VEVENT
END:VCALENDAR
