BEGIN:VCALENDAR
PRODID:-//AT Content Types//AT Event//EN
VERSION:2.0
METHOD:PUBLISH
BEGIN:VEVENT
DTSTAMP:20260421T020409Z
CREATED:20230403T084324Z
UID:ATEvent-c98374b3312d41afa3e587f66f33da4f
LAST-MODIFIED:20231030T132721Z
SUMMARY:"Egin ezazu zure sagar zukua" esperientzia
DTSTART:20231111T153000Z
DTEND:20231111T170000Z
LOCATION:Igartubeiti Baserri Museoa
CONTACT:Igartubeiti Baserri Museoa\, 618 00 41 31 / 943 72 29 78 / 943 72 51 07\, igartubeiti@gipuzkoa.eus
CLASS:PUBLIC
END:VEVENT
END:VCALENDAR
