BEGIN:VCALENDAR
PRODID:-//AT Content Types//AT Event//EN
VERSION:1.0
BEGIN:VEVENT
DTSTART:20250705T090000Z
DTEND:20250705T120000Z
DCREATED:20250514T144645Z
UID:ATEvent-91e93c6980f745bc9ef6abad186d326b
SEQUENCE:0
LAST-MODIFIED:20250618T085326Z
SUMMARY:"Pintxo eta txotx" bisita eta dastaketa
LOCATION:Igartubeiti Baserri Museoa
PRIORITY:3
TRANSP:0
END:VEVENT
END:VCALENDAR
